BEGIN:VCALENDAR
VERSION:2.0
PRODID:-//Hotel Fauchère - ECPv6.15.18//NONSGML v1.0//EN
CALSCALE:GREGORIAN
METHOD:PUBLISH
X-ORIGINAL-URL:https://hotelfauchere.com
X-WR-CALDESC:Events for Hotel Fauchère
REFRESH-INTERVAL;VALUE=DURATION:PT1H
X-Robots-Tag:noindex
X-PUBLISHED-TTL:PT1H
BEGIN:VTIMEZONE
TZID:UTC
BEGIN:STANDARD
TZOFFSETFROM:+0000
TZOFFSETTO:+0000
TZNAME:UTC
DTSTART:20250101T000000
END:STANDARD
END:VTIMEZONE
BEGIN:VTIMEZONE
TZID:America/New_York
BEGIN:DAYLIGHT
TZOFFSETFROM:-0500
TZOFFSETTO:-0400
TZNAME:EDT
DTSTART:20250309T070000
END:DAYLIGHT
BEGIN:STANDARD
TZOFFSETFROM:-0400
TZOFFSETTO:-0500
TZNAME:EST
DTSTART:20251102T060000
END:STANDARD
BEGIN:DAYLIGHT
TZOFFSETFROM:-0500
TZOFFSETTO:-0400
TZNAME:EDT
DTSTART:20260308T070000
END:DAYLIGHT
BEGIN:STANDARD
TZOFFSETFROM:-0400
TZOFFSETTO:-0500
TZNAME:EST
DTSTART:20261101T060000
END:STANDARD
BEGIN:DAYLIGHT
TZOFFSETFROM:-0500
TZOFFSETTO:-0400
TZNAME:EDT
DTSTART:20270314T070000
END:DAYLIGHT
BEGIN:STANDARD
TZOFFSETFROM:-0400
TZOFFSETTO:-0500
TZNAME:EST
DTSTART:20271107T060000
END:STANDARD
END:VTIMEZONE
BEGIN:VEVENT
DTSTART;TZID=UTC:20260315T160000
DTEND;TZID=UTC:20260315T180000
DTSTAMP:20260421T131706
CREATED:20260120T134456Z
LAST-MODIFIED:20260420T140049Z
UID:10000104-1773590400-1773597600@hotelfauchere.com
SUMMARY:Movie: Butch Cassidy & The Sundance Kid (1969) w/ John DiLeo
DESCRIPTION:In honor of the late Robert Redford. The true story of fast draws and wild rides\, battles with posses\, train and bank robberies\, a torrid love affair and a new lease on outlaw life in far away Bolivia. It is also a character study of a remarkable friendship between Butch\, possibly the most likeable outlaw in frontier history\, and his closest associate\, the fabled\, ever dangerous Sundance Kid. \nSpecial introduction to the film and a Q&A following with John DiLeo\, prominent film historian\, critic\, and author of seven books about classic movies. \nThe Milford Theater Bar will be open one hour before the show\, serving wine\, beer\, cocktails and concessions!
URL:https://hotelfauchere.com/event/movie-butch-cassidy-the-sundance-kid-1969-w-john-dileo/
LOCATION:The Milford Theater\, 114 E Catharine St\, Milford\, PA\, 18337\, United States
CATEGORIES:Movie
ATTACH;FMTTYPE=image/webp:https://hotelfauchere.com/wp-content/uploads/2026/01/Butch-Cassidy.webp
END:VEVENT
BEGIN:VEVENT
DTSTART;TZID=America/New_York:20260307T200000
DTEND;TZID=America/New_York:20260307T220000
DTSTAMP:20260421T131706
CREATED:20251222T095343Z
LAST-MODIFIED:20260420T140025Z
UID:10000089-1772913600-1772920800@hotelfauchere.com
SUMMARY:Simply the Best: A Tribute to Female Rock Icons
DESCRIPTION:A tribute to the powerful and iconic women of 80s rock. This dynamic show includes theatrical medleys and show stopping numbers from some of the biggest names of the 80s. Featuring the chart topping hits of\, Heart\, Blondie\, Tina Turner\, Pat Benatar\, Joan Jett\, Stevie Nicks and more! Dayna brings her vocal pyrotechnics to the stage and makes it her own. Simply the Best showcases a six piece band featuring accomplished musicians from NJ and NY who have toured nationally and internationally. The unique blend of songs and specialized musical arrangements really set this tribute apart and creates a unique experience for the audience. \nTable Seating tickets include a cocktail server (credit card required) during the show! \nThe Milford Theater Bar will be open one hour before the show\, serving wine\, beer\, cocktails and concessions!
URL:https://hotelfauchere.com/event/simply-the-best-a-tribute-to-female-rock-icons/
LOCATION:The Milford Theater\, 114 E Catharine St\, Milford\, PA\, 18337\, United States
CATEGORIES:Event
ATTACH;FMTTYPE=image/webp:https://hotelfauchere.com/wp-content/uploads/2025/12/Simply-the-Best_-A-Tribute-to-Female-Rock-Icons.webp
END:VEVENT
BEGIN:VEVENT
DTSTART;TZID=UTC:20260221T200000
DTEND;TZID=UTC:20260221T220000
DTSTAMP:20260421T131706
CREATED:20260120T133043Z
LAST-MODIFIED:20260420T140006Z
UID:10000103-1771704000-1771711200@hotelfauchere.com
SUMMARY:Richard Francese's Italian American Comedy All Stars
DESCRIPTION:Rich is a regular at the prestigious Gotham Comedy Club in NYC\, and the world famous Comedy Cellar in NYC\, He is legendary for his intelligent and well crafted material and improvisational genius on stage\, he?s a killer! It didn?t take long for him to get noticed by the television industry. Rich has hundreds of television appearances\, including Conan\, where he was also a recurring sketch player\, The View\, where he had the honor of being brought back to the show faster than any other comedian in the history of the show\, Celebrity Apprentice (With you know who)\, Tough Crowd with Colin Quinn where he was a recurring guest\, Showtime\, ESPN\, MTV and many more. Rich also was a writer for Saturday Night Live coupled with an occasional sketch appearance. \nTable Seating tickets include a cocktail server (credit card required) during the show! \nThe Milford Theater Bar will be open one hour before the show\, serving wine\, beer\, cocktails and concessions!
URL:https://hotelfauchere.com/event/richard-franceses-italian-american-comedy-all-stars/
LOCATION:The Milford Theater\, 114 E Catharine St\, Milford\, PA\, 18337\, United States
CATEGORIES:Show
ATTACH;FMTTYPE=image/webp:https://hotelfauchere.com/wp-content/uploads/2026/01/Richard-Franceses-Italian-American.webp
END:VEVENT
BEGIN:VEVENT
DTSTART;TZID=UTC:20260215T160000
DTEND;TZID=UTC:20260215T180000
DTSTAMP:20260421T131706
CREATED:20260120T125959Z
LAST-MODIFIED:20260420T135958Z
UID:10000102-1771171200-1771178400@hotelfauchere.com
SUMMARY:Movie: Annie Hall (1977) w/ John DiLeo
DESCRIPTION:Comedian Alvy Singer (Woody Allen) examines the rise and fall of his relationship with struggling nightclub singer Annie Hall (Diane Keaton). Speaking directly to the audience in front of a bare background\, Singer reflects briefly on his childhood and his early adult years before settling in to tell the story of how he and Annie met\, fell in love\, and struggled with the obstacles of modern romance\, mixing surreal fantasy sequences with small moments of emotional drama. \nSpecial introduction to the film and a Q&A following with John DiLeo\, prominent film historian\, critic\, and author of seven books about classic movies. \nThe Milford Theater Bar will be open one hour before the show\, serving wine\, beer\, cocktails and concessions!
URL:https://hotelfauchere.com/event/movie-annie-hall-1977-w-john-dileo/
LOCATION:The Milford Theater\, 114 E Catharine St\, Milford\, PA\, 18337\, United States
CATEGORIES:Movie
ATTACH;FMTTYPE=image/webp:https://hotelfauchere.com/wp-content/uploads/2026/01/Annie-Hall-1977.webp
END:VEVENT
BEGIN:VEVENT
DTSTART;TZID=UTC:20260214T200000
DTEND;TZID=UTC:20260214T220000
DTSTAMP:20260421T131706
CREATED:20260120T124727Z
LAST-MODIFIED:20260420T135834Z
UID:10000101-1771099200-1771106400@hotelfauchere.com
SUMMARY:Shades of Bublé: A Three Man Tribute to Michael Bublé
DESCRIPTION:Delivering a setlist comprised only of songs recorded or performed live by Michael Bublé\, this world class tribute act honors (but doesnt imitate) the sophistication\, retro style\, and high energy fun that Bublé himself brings to his concerts while engaging diehard fans with thrilling new three part vocal arrangements. SHADES OF BUBLÉ: A Three Man Tribute to Michael Bublé gives audiences seamless variety by combining big band standards from the jazz era\, classic hits from the 50s\, 60s\, 70s\, as well as Billboard chart toppers from today in a high energy show that generates standing ovations from sold out crowds. \nTable Seating tickets include a cocktail server (credit card required) during the show! \nThe Milford Theater Bar will be open one hour before the show\, serving wine\, beer\, cocktails and concessions!
URL:https://hotelfauchere.com/event/shades-of-buble-a-three-man-tribute-to-michael-buble/
LOCATION:The Milford Theater\, 114 E Catharine St\, Milford\, PA\, 18337\, United States
CATEGORIES:Show
ATTACH;FMTTYPE=image/jpeg:https://hotelfauchere.com/wp-content/uploads/2026/01/Shades-of-Buble-A-Three-Man-Tribute.jpg
END:VEVENT
BEGIN:VEVENT
DTSTART;TZID=UTC:20260207T160000
DTEND;TZID=UTC:20260207T180000
DTSTAMP:20260421T131706
CREATED:20260120T112926Z
LAST-MODIFIED:20260420T135754Z
UID:10000100-1770480000-1770487200@hotelfauchere.com
SUMMARY:Xanadu Jr. Presented by StageCraft
DESCRIPTION:Presented by Stage Craft Performing Arts\, Xanadu JR. follows the journey of a magical and beautiful Greek muse\, Kira\, who descends from the heavens of Mt. Olympus to Venice Beach\, California\, on a quest to inspire a struggling artist\, Sonny\, to achieve the greatest artistic creation of all time\, the first Roller Disco. (Hey\, it’s 1980!) But\, when Kira falls into forbidden love with the mortal Sonny\, her jealous sisters take advantage of the situation\, and chaos abounds. \nTable Seating tickets include a cocktail server (credit card required) during the show! \nThe Milford Theater Bar will be open one hour before the show\, serving wine\, beer\, cocktails and concessions!
URL:https://hotelfauchere.com/event/xanadu-jr-presented-by-stagecraft/
LOCATION:The Milford Theater\, 114 E Catharine St\, Milford\, PA\, 18337\, United States
CATEGORIES:Show
ATTACH;FMTTYPE=image/webp:https://hotelfauchere.com/wp-content/uploads/2026/01/Xanadu-Jr.-Presented-by-StageCraft.webp
END:VEVENT
BEGIN:VEVENT
DTSTART;TZID=UTC:20260201T160000
DTEND;TZID=UTC:20260201T180000
DTSTAMP:20260421T131706
CREATED:20260120T111347Z
LAST-MODIFIED:20260420T135721Z
UID:10000099-1769961600-1769968800@hotelfauchere.com
SUMMARY:Magical Mystery Doors
DESCRIPTION:In this flagship show\, Magical Mystery Doors brings together three of rocks most influential bands in a way no one else does. Hits from The Beatles\, Led Zeppelin\, and The Doors are reimagined through mashups and medleys that connect songs across catalogs. Imagine the melody of Hello\, I Love You set against Misty Mountain Hop\, or a seamless journey from The Rain Song into Riders On The Storm and Here Comes The Sun. Backed by stunning visuals and lights\, the result is a performance that feels both familiar and completely new. \nTable Seating tickets include a cocktail server (credit card required) during the show! \nThe Milford Theater Bar will be open one hour before the show\, serving wine\, beer\, cocktails and concessions!
URL:https://hotelfauchere.com/event/magical-mystery-doors-2/
LOCATION:The Milford Theater\, 114 E Catharine St\, Milford\, PA\, 18337\, United States
CATEGORIES:Show
ATTACH;FMTTYPE=image/webp:https://hotelfauchere.com/wp-content/uploads/2025/11/Magical-Mystery-Doors.webp
END:VEVENT
BEGIN:VEVENT
DTSTART;TZID=UTC:20260131T160000
DTEND;TZID=UTC:20260131T180000
DTSTAMP:20260421T131706
CREATED:20260120T105522Z
LAST-MODIFIED:20260420T135641Z
UID:10000098-1769875200-1769882400@hotelfauchere.com
SUMMARY:Movie: Strangers on a Train 5th Annual Hitchcock Series w/ John DiLeo
DESCRIPTION:In Alfred Hitchcocks adaptation of Patricia Highsmiths thriller\, tennis star Guy Haines (Farley Granger) is enraged by his trampy wifes refusal to finalize their divorce so he can wed senators daughter Anne (Ruth Roman). He strikes up a conversation with a stranger\, Bruno Anthony (Robert Walker)\, and unwittingly sets in motion a deadly chain of events. Psychopathic Bruno kills Guys wife\, then urges Guy to reciprocate by killing Brunos father. Meanwhile\, Guy is murder suspect number one. \nSpecial introduction to the film and a Q&A following with John DiLeo\, prominent film historian\, critic\, and author of seven books about classic movies. \nThe Milford Theater Bar will be open one hour before the show\, serving wine\, beer\, cocktails and concessions!
URL:https://hotelfauchere.com/event/movie-strangers-on-a-train-5th-annual-hitchcock-series-w-john-dileo-2/
LOCATION:The Milford Theater\, 114 E Catharine St\, Milford\, PA\, 18337\, United States
CATEGORIES:Movie
ATTACH;FMTTYPE=image/webp:https://hotelfauchere.com/wp-content/uploads/2025/11/Movie_-Strangers-on-a-Train-5th-Annual-Hitchcock-Series-w_-John-DiLeo.webp
END:VEVENT
BEGIN:VEVENT
DTSTART;TZID=UTC:20260125T160000
DTEND;TZID=UTC:20260125T180000
DTSTAMP:20260421T131706
CREATED:20260120T103941Z
LAST-MODIFIED:20260420T135620Z
UID:10000097-1769356800-1769364000@hotelfauchere.com
SUMMARY:Movie: Stage Fright (1950) 5th Annual Hitchcock Series w/ John DiLeo
DESCRIPTION:The police think actor Jonathan Cooper (Richard Todd) is a murderer\, and now theyre on his tail. He asserts that it was his lover\, the famous actress Charlotte Inwood (Marlene Dietrich)\, who killed the victim (not coincidentally\, her husband). He seeks shelter with his ex girlfriend Eve (Jane Wyman)\, a budding actress. Convinced Jonathan is innocent\, Eve plays detective and assumes multiple disguises. But once she is entangled in a web of deception\, she fears everyone in fact wears a mask. \nSpecial introduction to the film and a Q&A following with John DiLeo\, prominent film historian\, critic\, and author of seven books about classic movies. \nThe Milford Theater Bar will be open one hour before the show\, serving wine\, beer\, cocktails and concessions!
URL:https://hotelfauchere.com/event/movie-stage-fright-1950-5th-annual-hitchcock-series-w-john-dileo-2/
LOCATION:The Milford Theater\, 114 E Catharine St\, Milford\, PA\, 18337\, United States
CATEGORIES:Movie
ATTACH;FMTTYPE=image/webp:https://hotelfauchere.com/wp-content/uploads/2025/11/Movie_-Stage-Fright-1950-5th-Annual-Hitchcock-Series-w_-John-DiLeo.webp
END:VEVENT
BEGIN:VEVENT
DTSTART;TZID=UTC:20260124T200000
DTEND;TZID=UTC:20260124T220000
DTSTAMP:20260421T131706
CREATED:20260119T141055Z
LAST-MODIFIED:20260420T135549Z
UID:10000096-1769284800-1769292000@hotelfauchere.com
SUMMARY:Funny Women of a Certain Age
DESCRIPTION:FUNNY WOMEN OF A CERTAIN AGE is a show straight from the unfettered mouths and uninhibited minds of the funniest\, most daring\, most experienced people in comedy: the women that have seen it all. \nThis performance features sets by comedians Missy Hall\, Vicky Kuperman\, and creator of FWOACA\, Carole Montgomery. \nMissy Hall\, Queen of Happy Things\, is a comedian\, speaker\, breast cancer survivor and actress who uses happiness as a coping mechanism. Her relatable\, witty style has captivated audiences around the country. \nRussian-born Vicky Kuperman has performed nationwide for over a decade and was named one of Huffington Post?s new comedians to watch. \nCarole Montgomery is a respected veteran of the standup comedy scene nationwide with over 2 dozen television credits to her name. \nTable Seating tickets include a cocktail server (credit card required) during the show! \nThe Milford Theater Bar will be open one hour before the show\, serving wine\, beer\, cocktails and concessions!
URL:https://hotelfauchere.com/event/funny-women-of-a-certain-age-2/
LOCATION:The Milford Theater\, 114 E Catharine St\, Milford\, PA\, 18337\, United States
CATEGORIES:Show
ATTACH;FMTTYPE=image/webp:https://hotelfauchere.com/wp-content/uploads/2025/11/Funny-Women-of-a-Certain-Age.webp
END:VEVENT
END:VCALENDAR