BEGIN:VCALENDAR
VERSION:2.0
PRODID:-//Hotel Fauchère - ECPv6.15.18//NONSGML v1.0//EN
CALSCALE:GREGORIAN
METHOD:PUBLISH
X-ORIGINAL-URL:https://hotelfauchere.com
X-WR-CALDESC:Events for Hotel Fauchère
REFRESH-INTERVAL;VALUE=DURATION:PT1H
X-Robots-Tag:noindex
X-PUBLISHED-TTL:PT1H
BEGIN:VTIMEZONE
TZID:UTC
BEGIN:STANDARD
TZOFFSETFROM:+0000
TZOFFSETTO:+0000
TZNAME:UTC
DTSTART:20250101T000000
END:STANDARD
END:VTIMEZONE
BEGIN:VEVENT
DTSTART;TZID=UTC:20260627T190000
DTEND;TZID=UTC:20260627T210000
DTSTAMP:20260420T042940
CREATED:20260317T080600Z
LAST-MODIFIED:20260413T103325Z
UID:10000148-1782586800-1782594000@hotelfauchere.com
SUMMARY:Movie: Back to the Future (1985) w/ John DiLeo
DESCRIPTION:In this 1980s sci fi classic\, small town California teen Marty McFly is thrown back into the 50s when an experiment by his eccentric scientist friend Doc Brown goes awry. Traveling through time in a modified DeLorean car\, Marty encounters young versions of his parents\, and must make sure that they fall in love\, or he will cease to exist. Even more dauntingly\, Marty has to return to his own time and save the life of Doc Brown. \nSpecial introduction to the film and a Q&A following with John DiLeo\, prominent film historian\, critic\, and author of seven books about classic movies. \nThe Milford Theater Bar will be open one hour before the show\, serving wine\, beer\, cocktails and concessions!
URL:https://hotelfauchere.com/event/movie-back-to-the-future-1985-w-john-dileo/
LOCATION:The Milford Theater\, 114 E Catharine St\, Milford\, PA\, 18337\, United States
CATEGORIES:Movie
ATTACH;FMTTYPE=image/webp:https://hotelfauchere.com/wp-content/uploads/2026/03/Movie_-Back-to-the-Future-1985-w_-John-DiLeo.webp
END:VEVENT
END:VCALENDAR