BEGIN:VCALENDAR
VERSION:2.0
PRODID:-//Hotel Fauchère - ECPv6.15.18//NONSGML v1.0//EN
CALSCALE:GREGORIAN
METHOD:PUBLISH
X-ORIGINAL-URL:https://hotelfauchere.com
X-WR-CALDESC:Events for Hotel Fauchère
REFRESH-INTERVAL;VALUE=DURATION:PT1H
X-Robots-Tag:noindex
X-PUBLISHED-TTL:PT1H
BEGIN:VTIMEZONE
TZID:UTC
BEGIN:STANDARD
TZOFFSETFROM:+0000
TZOFFSETTO:+0000
TZNAME:UTC
DTSTART:20250101T000000
END:STANDARD
END:VTIMEZONE
BEGIN:VEVENT
DTSTART;TZID=UTC:20260607T160000
DTEND;TZID=UTC:20260607T180000
DTSTAMP:20260420T010634
CREATED:20260317T080439Z
LAST-MODIFIED:20260413T103215Z
UID:10000147-1780848000-1780855200@hotelfauchere.com
SUMMARY:Movie: Victor/Victoria (1982) w/ John DiLeo
DESCRIPTION:Victoria Grant (Julie Andrews)\, a down and out British soprano\, struggles to find work in the nightclubs of 1930s Paris. While trying to scam a free meal\, Grant meets cabaret performer Toddy (Robert Preston)\, who comes up with an idea that will change everything. Acting as her manager\, Toddy bills Grant as a male female impersonator. When the nightclubs eat it up\, the duo makes it big\, even a Chicago mobster (James Garner) is enamored with Grant. But keeping the truth a secret is no easy task. \nSpecial introduction to the film and a Q&A following with John DiLeo\, prominent film historian\, critic\, and author of seven books about classic movies. \nThe Milford Theater Bar will be open one hour before the show\, serving wine\, beer\, cocktails and concessions!
URL:https://hotelfauchere.com/event/movie-victor-victoria-1982-w-john-dileo/
LOCATION:The Milford Theater\, 114 E Catharine St\, Milford\, PA\, 18337\, United States
CATEGORIES:Movie
ATTACH;FMTTYPE=image/webp:https://hotelfauchere.com/wp-content/uploads/2026/03/Movie_-Victor_Victoria-1982-w_-John-DiLeo.webp
END:VEVENT
END:VCALENDAR