BEGIN:VCALENDAR
VERSION:2.0
PRODID:-//Hotel Fauchère - ECPv6.15.18//NONSGML v1.0//EN
CALSCALE:GREGORIAN
METHOD:PUBLISH
X-ORIGINAL-URL:https://hotelfauchere.com
X-WR-CALDESC:Events for Hotel Fauchère
REFRESH-INTERVAL;VALUE=DURATION:PT1H
X-Robots-Tag:noindex
X-PUBLISHED-TTL:PT1H
BEGIN:VTIMEZONE
TZID:America/New_York
BEGIN:DAYLIGHT
TZOFFSETFROM:-0500
TZOFFSETTO:-0400
TZNAME:EDT
DTSTART:20250309T070000
END:DAYLIGHT
BEGIN:STANDARD
TZOFFSETFROM:-0400
TZOFFSETTO:-0500
TZNAME:EST
DTSTART:20251102T060000
END:STANDARD
BEGIN:DAYLIGHT
TZOFFSETFROM:-0500
TZOFFSETTO:-0400
TZNAME:EDT
DTSTART:20260308T070000
END:DAYLIGHT
BEGIN:STANDARD
TZOFFSETFROM:-0400
TZOFFSETTO:-0500
TZNAME:EST
DTSTART:20261101T060000
END:STANDARD
BEGIN:DAYLIGHT
TZOFFSETFROM:-0500
TZOFFSETTO:-0400
TZNAME:EDT
DTSTART:20270314T070000
END:DAYLIGHT
BEGIN:STANDARD
TZOFFSETFROM:-0400
TZOFFSETTO:-0500
TZNAME:EST
DTSTART:20271107T060000
END:STANDARD
END:VTIMEZONE
BEGIN:VEVENT
DTSTART;TZID=America/New_York:20260208T140000
DTEND;TZID=America/New_York:20260208T160000
DTSTAMP:20260420T010511
CREATED:20260202T134454Z
LAST-MODIFIED:20260204T130032Z
UID:10000113-1770559200-1770566400@hotelfauchere.com
SUMMARY:Stage Fright (1950) 5th Annual Hitchcock Series w/ John DiLeo
DESCRIPTION:The police think actor Jonathan Cooper (Richard Todd) is a murderer\, and now theyre on his tail. He asserts that it was his lover\, the famous actress Charlotte Inwood (Marlene Dietrich)\, who killed the victim (not coincidentally\, her husband). He seeks shelter with his ex girlfriend Eve (Jane Wyman)\, a budding actress. Convinced Jonathan is innocent\, Eve plays detective and assumes multiple disguises. But once she is entangled in a web of deception\, she fears everyone in fact wears a mask. \nSpecial introduction to the film and a Q&A following with John DiLeo\, prominent film historian\, critic\, and author of seven books about classic movies. \nThe Milford Theater Bar will be open one hour before the show\, serving wine\, beer\, cocktails and concessions!
URL:https://hotelfauchere.com/event/stage-fright-1950-5th-annual-hitchcock-series-w-john-dileo/
CATEGORIES:Movie
ATTACH;FMTTYPE=image/webp:https://hotelfauchere.com/wp-content/uploads/2026/02/Movie_-Stage-Fright-1950-5th-Annual-Hitchcock-Series-w_-John-DiLeo-1-iRyV0R.webp
END:VEVENT
END:VCALENDAR